BEGIN:VCALENDAR
VERSION:2.0
PRODID:-//Plone.org//NONSGML plone.app.event//EN
X-WR-TIMEZONE:US/Central
BEGIN:VEVENT
SUMMARY:Black History Month
DTSTART;VALUE=DATE:20200201
DTEND;VALUE=DATE:20200301
DTSTAMP:20260421T045944Z
UID:3f6ac154a8a64eacafd5ef83938d3352@saas_stack_varnish:6080
CONTACT:https://en.wikipedia.org/wiki/Black_History_Month
CREATED:20200214T180101Z
LAST-MODIFIED:20200214T180114Z
URL:https://bremond.ploud.net/news-events/lib-cal/black-history-month
END:VEVENT
END:VCALENDAR
