BEGIN:VCALENDAR
VERSION:2.0
PRODID:-//Plone.org//NONSGML plone.app.event//EN
X-WR-TIMEZONE:US/Central
BEGIN:VEVENT
SUMMARY:Columbus Day - Library Closed
DTSTART;VALUE=DATE:20231009
DTEND;VALUE=DATE:20231010
DTSTAMP:20260421T031830Z
UID:a6f54b2de61648fe887a57801a9f5ea7@saas_stack_varnish:6080
CREATED:20230124T194858Z
LAST-MODIFIED:20230124T194947Z
URL:https://bremond.ploud.net/news-events/lib-cal/columbus-day-library-clo
 sed
END:VEVENT
END:VCALENDAR
