BEGIN:VCALENDAR
VERSION:2.0
PRODID:-//Plone.org//NONSGML plone.app.event//EN
X-WR-TIMEZONE:US/Central
BEGIN:VEVENT
SUMMARY:EARTH Day!
DTSTART;VALUE=DATE:20200422
DTEND;VALUE=DATE:20200423
DTSTAMP:20260421T031526Z
UID:63a4fce557b4423f909b4f66d9b86499@saas_stack_varnish:6080
CONTACT:https://en.wikipedia.org/wiki/Earth_Day
CREATED:20200214T175344Z
LAST-MODIFIED:20200214T175432Z
LOCATION:All Over the World
URL:https://bremond.ploud.net/news-events/lib-cal/earth-day
END:VEVENT
END:VCALENDAR
