BEGIN:VCALENDAR
VERSION:2.0
PRODID:-//Plone.org//NONSGML plone.app.event//EN
X-WR-TIMEZONE:US/Central
BEGIN:VEVENT
SUMMARY:Fine Forgiveness Month!!
DTSTART;VALUE=DATE:20210201
DTEND;VALUE=DATE:20210301
DTSTAMP:20260421T031708Z
UID:b4fef121ec1a4cce906c9efd0c9ceda3@saas_stack_varnish:6080
CREATED:20200214T182328Z
LAST-MODIFIED:20200908T181541Z
LOCATION:Bremond Public Library
URL:https://bremond.ploud.net/news-events/lib-cal/fine-forgiveness-month
END:VEVENT
END:VCALENDAR
