BEGIN:VCALENDAR
VERSION:2.0
PRODID:-//Plone.org//NONSGML plone.app.event//EN
X-WR-TIMEZONE:US/Central
BEGIN:VEVENT
SUMMARY:New Year's Day Holiday - Library Closed
DTSTART;VALUE=DATE:20230102
DTEND;VALUE=DATE:20230103
DTSTAMP:20260421T045357Z
UID:83580c6e556d4e45b43f361fd8a6ee9d@saas_stack_varnish:6080
CREATED:20230103T194537Z
LAST-MODIFIED:20230124T193601Z
URL:https://bremond.ploud.net/news-events/lib-cal/holiday-library-closed
END:VEVENT
END:VCALENDAR
