BEGIN:VCALENDAR
VERSION:2.0
PRODID:-//Plone.org//NONSGML plone.app.event//EN
X-WR-TIMEZONE:US/Central
BEGIN:VEVENT
SUMMARY:Martin Luther King Jr Day - Library Closed
DTSTART;VALUE=DATE:20230116
DTEND;VALUE=DATE:20230117
DTSTAMP:20260421T032010Z
UID:f8d9092c620b45d8a642397232c98821@saas_stack_varnish:6080
CREATED:20230124T212209Z
LAST-MODIFIED:20230124T212218Z
URL:https://bremond.ploud.net/news-events/lib-cal/martin-luther-king-jr-da
 y-library-closed-1
END:VEVENT
END:VCALENDAR
