BEGIN:VCALENDAR
VERSION:2.0
PRODID:-//Plone.org//NONSGML plone.app.event//EN
X-WR-TIMEZONE:US/Central
BEGIN:VEVENT
SUMMARY:Memorial Day - Library Closed
DTSTART;VALUE=DATE:20230529
DTEND;VALUE=DATE:20230530
DTSTAMP:20260421T033842Z
UID:b2b377e9c0584a489ebb6e03d1921dfb@saas_stack_varnish:6080
CREATED:20230124T193415Z
LAST-MODIFIED:20230124T193435Z
URL:https://bremond.ploud.net/news-events/lib-cal/memorial-day-library-clo
 sed
END:VEVENT
END:VCALENDAR
