BEGIN:VCALENDAR
VERSION:2.0
PRODID:-//Plone.org//NONSGML plone.app.event//EN
X-WR-TIMEZONE:US/Central
BEGIN:VEVENT
SUMMARY:National READ ALOUD Day!
DTSTART;VALUE=DATE:20200205
DTEND;VALUE=DATE:20200206
DTSTAMP:20260421T050958Z
UID:4b4e081ce521460192bb5127f02a0261@saas_stack_varnish:6080
CREATED:20200129T222422Z
LAST-MODIFIED:20200129T222659Z
URL:https://bremond.ploud.net/news-events/lib-cal/national-read-aloud-day
END:VEVENT
END:VCALENDAR
