BEGIN:VCALENDAR
VERSION:2.0
PRODID:-//Plone.org//NONSGML plone.app.event//EN
X-WR-TIMEZONE:US/Central
BEGIN:VEVENT
SUMMARY:New Car for YOU = New Library for US!
DTSTART;TZID=US/Central:20160301T130000
DTEND;TZID=US/Central:20160625T220000
DTSTAMP:20260421T033108Z
UID:2d8879b0edc8426ea1cfc5ffb7895a4b@saas_stack_varnish:6080
CONTACT:Theresa Crawford\, 2547467752\, bremondpubliclibrary@yahoo.com
CREATED:20160321T180351Z
LAST-MODIFIED:20160321T181533Z
URL:https://bremond.ploud.net/news-events/lib-cal/new-car-for-you-new-libr
 ary-for-us
END:VEVENT
BEGIN:VTIMEZONE
TZID:US/Central
X-LIC-LOCATION:US/Central
BEGIN:STANDARD
DTSTART:20151101T010000
TZNAME:CST
TZOFFSETFROM:-0500
TZOFFSETTO:-0600
END:STANDARD
BEGIN:DAYLIGHT
DTSTART:20160313T030000
TZNAME:CDT
TZOFFSETFROM:-0600
TZOFFSETTO:-0500
END:DAYLIGHT
END:VTIMEZONE
END:VCALENDAR
