BEGIN:VCALENDAR
VERSION:2.0
PRODID:-//Plone.org//NONSGML plone.app.event//EN
X-WR-TIMEZONE:US/Central
BEGIN:VEVENT
SUMMARY:President's Day - Library Closed
DTSTART;VALUE=DATE:20230220
DTEND;VALUE=DATE:20230221
DTSTAMP:20260421T050100Z
UID:20b641deb7c34c6183f71c4f2055f6ce@saas_stack_varnish:6080
CREATED:20230124T193033Z
LAST-MODIFIED:20230124T193044Z
URL:https://bremond.ploud.net/news-events/lib-cal/presidents-day-library-c
 losed-1
END:VEVENT
END:VCALENDAR
