BEGIN:VCALENDAR
VERSION:2.0
PRODID:-//Plone.org//NONSGML plone.app.event//EN
X-WR-TIMEZONE:US/Central
BEGIN:VEVENT
SUMMARY:President's Day - Library Closed
DTSTART;VALUE=DATE:20200217
DTEND;VALUE=DATE:20200218
DTSTAMP:20260421T034227Z
UID:732d7b95880848afb304353a042a124f@saas_stack_varnish:6080
CREATED:20200129T222828Z
LAST-MODIFIED:20200129T223136Z
URL:https://bremond.ploud.net/news-events/lib-cal/presidents-day-library-c
 losed
END:VEVENT
END:VCALENDAR
